BEGIN:VCALENDAR
VERSION:2.0
PRODID:-//American Space Museum &amp; Walk of Fame Titusville FL - ECPv6.15.20//NONSGML v1.0//EN
CALSCALE:GREGORIAN
METHOD:PUBLISH
X-WR-CALNAME:American Space Museum &amp; Walk of Fame Titusville FL
X-ORIGINAL-URL:https://spacewalkoffame.org
X-WR-CALDESC:Events for American Space Museum &amp; Walk of Fame Titusville FL
REFRESH-INTERVAL;VALUE=DURATION:PT1H
X-Robots-Tag:noindex
X-PUBLISHED-TTL:PT1H
BEGIN:VTIMEZONE
TZID:America/New_York
BEGIN:DAYLIGHT
TZOFFSETFROM:-0500
TZOFFSETTO:-0400
TZNAME:EDT
DTSTART:20230312T070000
END:DAYLIGHT
BEGIN:STANDARD
TZOFFSETFROM:-0400
TZOFFSETTO:-0500
TZNAME:EST
DTSTART:20231105T060000
END:STANDARD
BEGIN:DAYLIGHT
TZOFFSETFROM:-0500
TZOFFSETTO:-0400
TZNAME:EDT
DTSTART:20240310T070000
END:DAYLIGHT
BEGIN:STANDARD
TZOFFSETFROM:-0400
TZOFFSETTO:-0500
TZNAME:EST
DTSTART:20241103T060000
END:STANDARD
BEGIN:DAYLIGHT
TZOFFSETFROM:-0500
TZOFFSETTO:-0400
TZNAME:EDT
DTSTART:20250309T070000
END:DAYLIGHT
BEGIN:STANDARD
TZOFFSETFROM:-0400
TZOFFSETTO:-0500
TZNAME:EST
DTSTART:20251102T060000
END:STANDARD
END:VTIMEZONE
BEGIN:VEVENT
DTSTART;TZID=America/New_York:20240222T180000
DTEND;TZID=America/New_York:20240222T200000
DTSTAMP:20260425T191533
CREATED:20240216T062644Z
LAST-MODIFIED:20240312T033012Z
UID:12899-1708624800-1708632000@spacewalkoffame.org
SUMMARY:Stargazing with Brevard Astronomical Society at ASM – Feb 22\, 2024 - "Build-A-Brain" Workshop
DESCRIPTION:FREE – Pre-registration NOT Required. Just show up! \nThe American Space Museum’s Build-A-Brain Workshop and the Brevard Astronomical Society are teaming up for a stargazing night. Weather permitting\, from 6 pm to 8 pm on February 22\, we will have multiple telescopes set up to view other planets and the moon. We will also have a HUGE map of Mars you can walk around to see what it is like compared to Earth. We hope you come to this fun event. Map to Museum and Contacts at page bottom. \nSpecial Parking…\nRear parking lot off Palm Avenue will be closed to make room for telescopes. Please Park as follows…\n \n\nMuseum front lot (U.S. 1 side). Walk around building. Enter back door on Palm Avenue side.\nOverflow parking: Julia Street Parking Lot across U.S. 1 or the church across from our Palm Avenue rear lot.\nDo NOT park in the law office lot!\n\nSpecial thanks to Mark Marquette for putting this together.\n\nSee “Build-A-Brain” Educational STEM Workshops for Full Workshops Info. \nSee STEM Calendar for TOPICS and DATES.
URL:https://spacewalkoffame.org/event/bab-stargazing-feb-2024
LOCATION:American Space Museum\, 308 Pine Street\, Titusville\, FL\, 32796\, United States
CATEGORIES:Astronomy,STEM Workshop
ATTACH;FMTTYPE=image/png:https://spacewalkoffame.org/wp-content/uploads/2023/08/bab-logo-303x326-1.png
END:VEVENT
END:VCALENDAR