BEGIN:VCALENDAR
VERSION:2.0
PRODID:-//American Space Museum &amp; Walk of Fame Titusville FL - ECPv6.15.20//NONSGML v1.0//EN
CALSCALE:GREGORIAN
METHOD:PUBLISH
X-ORIGINAL-URL:https://spacewalkoffame.org
X-WR-CALDESC:Events for American Space Museum &amp; Walk of Fame Titusville FL
REFRESH-INTERVAL;VALUE=DURATION:PT1H
X-Robots-Tag:noindex
X-PUBLISHED-TTL:PT1H
BEGIN:VTIMEZONE
TZID:America/New_York
BEGIN:DAYLIGHT
TZOFFSETFROM:-0500
TZOFFSETTO:-0400
TZNAME:EDT
DTSTART:20230312T070000
END:DAYLIGHT
BEGIN:STANDARD
TZOFFSETFROM:-0400
TZOFFSETTO:-0500
TZNAME:EST
DTSTART:20231105T060000
END:STANDARD
BEGIN:DAYLIGHT
TZOFFSETFROM:-0500
TZOFFSETTO:-0400
TZNAME:EDT
DTSTART:20240310T070000
END:DAYLIGHT
BEGIN:STANDARD
TZOFFSETFROM:-0400
TZOFFSETTO:-0500
TZNAME:EST
DTSTART:20241103T060000
END:STANDARD
BEGIN:DAYLIGHT
TZOFFSETFROM:-0500
TZOFFSETTO:-0400
TZNAME:EDT
DTSTART:20250309T070000
END:DAYLIGHT
BEGIN:STANDARD
TZOFFSETFROM:-0400
TZOFFSETTO:-0500
TZNAME:EST
DTSTART:20251102T060000
END:STANDARD
END:VTIMEZONE
BEGIN:VEVENT
DTSTART;VALUE=DATE:20241109
DTEND;VALUE=DATE:20241125
DTSTAMP:20260425T085025
CREATED:20241109T182219Z
LAST-MODIFIED:20241109T182219Z
UID:14975-1731117600-1732413599@spacewalkoffame.org
SUMMARY:Charity Space Memorabilia Auction - ENDS Nov 23rd\, 2024
DESCRIPTION:Autumn Space Memorabilia Auction (35)\nONLINE ONLY for benefit of the American Space Museum.\n– OPEN NOW for early ONLINE bidding. See Auction Information Page.\n– Final LIVE bidding starts Nov 23\, 2024 at Noon\, Online ONLY with the auctioneer.\nFor each item\, the auctioneer will take final online bids then close bidding for that item.\nFor ONLINE AUCTION SITE link and status\nvisit our Auction Information Page\nSee below for Contact Information…
URL:https://spacewalkoffame.org/event/charity-memorabilia-auction-35
LOCATION:American Space Museum ONLINE Auctions\, FL\, United States
CATEGORIES:Auctions
ATTACH;FMTTYPE=image/jpeg:https://spacewalkoffame.org/wp-content/uploads/2024/11/patch-nar-apollo-launch-team-897x920-1.jpg
ORGANIZER;CN="American Space Museum":MAILTO:events@americanspacemuseum.org
END:VEVENT
END:VCALENDAR