BEGIN:VCALENDAR
VERSION:2.0
PRODID:-//American Space Museum &amp; Walk of Fame Titusville FL - ECPv6.15.20//NONSGML v1.0//EN
CALSCALE:GREGORIAN
METHOD:PUBLISH
X-WR-CALNAME:American Space Museum &amp; Walk of Fame Titusville FL
X-ORIGINAL-URL:https://spacewalkoffame.org
X-WR-CALDESC:Events for American Space Museum &amp; Walk of Fame Titusville FL
REFRESH-INTERVAL;VALUE=DURATION:PT1H
X-Robots-Tag:noindex
X-PUBLISHED-TTL:PT1H
BEGIN:VTIMEZONE
TZID:America/New_York
BEGIN:DAYLIGHT
TZOFFSETFROM:-0500
TZOFFSETTO:-0400
TZNAME:EDT
DTSTART:20240310T070000
END:DAYLIGHT
BEGIN:STANDARD
TZOFFSETFROM:-0400
TZOFFSETTO:-0500
TZNAME:EST
DTSTART:20241103T060000
END:STANDARD
BEGIN:DAYLIGHT
TZOFFSETFROM:-0500
TZOFFSETTO:-0400
TZNAME:EDT
DTSTART:20250309T070000
END:DAYLIGHT
BEGIN:STANDARD
TZOFFSETFROM:-0400
TZOFFSETTO:-0500
TZNAME:EST
DTSTART:20251102T060000
END:STANDARD
BEGIN:DAYLIGHT
TZOFFSETFROM:-0500
TZOFFSETTO:-0400
TZNAME:EDT
DTSTART:20260308T070000
END:DAYLIGHT
BEGIN:STANDARD
TZOFFSETFROM:-0400
TZOFFSETTO:-0500
TZNAME:EST
DTSTART:20261101T060000
END:STANDARD
END:VTIMEZONE
BEGIN:VEVENT
DTSTART;VALUE=DATE:20250201
DTEND;VALUE=DATE:20250505
DTSTAMP:20260424T234742
CREATED:20250304T075530Z
LAST-MODIFIED:20250502T051927Z
UID:15180-1738375200-1746323999@spacewalkoffame.org
SUMMARY:Charity Space Memorabilia Auction - ENDS May 3\, 2025
DESCRIPTION:NASA Space Memorabilia Sale (37)\nONLINE ONLY for benefit of the American Space Museum.\n– OPEN NOW for early ONLINE bidding. See Auction Information Page.\n– Final LIVE bidding starts Mar 3\, 2025 at Noon\, Online ONLY with the auctioneer.\nFor each item\, the auctioneer will take final online bids then close bidding for that item.\nFor AUCTION SITE link and status visit our Auction Information Page\nHighlights…\nAuthentic astronaut autographs\, space flown flags & coins\, pieces of spaceships\, and rare items of the space age fill the rich collection of 406 lots up for bid. The lots include personal items from astronauts\, including Fred Haise\, Jerry Carr and Gordon Cooper\, as well as many items from the desk of Bob Sieck\, celebrated NASA manager and launch director of 57 Space Shuttle missions.\nSee below for Contact Information…
URL:https://spacewalkoffame.org/event/charity-memorabilia-auction-37
LOCATION:American Space Museum ONLINE Auctions\, FL\, United States
CATEGORIES:Auctions
ATTACH;FMTTYPE=image/jpeg:https://spacewalkoffame.org/wp-content/uploads/2025/03/apollo-12-flown-kapton-foil-3486x4467-1-scaled.jpg
ORGANIZER;CN="American Space Museum":MAILTO:events@americanspacemuseum.org
END:VEVENT
END:VCALENDAR