BEGIN:VCALENDAR
VERSION:2.0
PRODID:-//American Space Museum &amp; Walk of Fame Titusville FL - ECPv6.15.20//NONSGML v1.0//EN
CALSCALE:GREGORIAN
METHOD:PUBLISH
X-ORIGINAL-URL:https://spacewalkoffame.org
X-WR-CALDESC:Events for American Space Museum &amp; Walk of Fame Titusville FL
REFRESH-INTERVAL;VALUE=DURATION:PT1H
X-Robots-Tag:noindex
X-PUBLISHED-TTL:PT1H
BEGIN:VTIMEZONE
TZID:America/New_York
BEGIN:DAYLIGHT
TZOFFSETFROM:-0500
TZOFFSETTO:-0400
TZNAME:EDT
DTSTART:20240310T070000
END:DAYLIGHT
BEGIN:STANDARD
TZOFFSETFROM:-0400
TZOFFSETTO:-0500
TZNAME:EST
DTSTART:20241103T060000
END:STANDARD
BEGIN:DAYLIGHT
TZOFFSETFROM:-0500
TZOFFSETTO:-0400
TZNAME:EDT
DTSTART:20250309T070000
END:DAYLIGHT
BEGIN:STANDARD
TZOFFSETFROM:-0400
TZOFFSETTO:-0500
TZNAME:EST
DTSTART:20251102T060000
END:STANDARD
BEGIN:DAYLIGHT
TZOFFSETFROM:-0500
TZOFFSETTO:-0400
TZNAME:EDT
DTSTART:20260308T070000
END:DAYLIGHT
BEGIN:STANDARD
TZOFFSETFROM:-0400
TZOFFSETTO:-0500
TZNAME:EST
DTSTART:20261101T060000
END:STANDARD
END:VTIMEZONE
BEGIN:VEVENT
DTSTART;VALUE=DATE:20250622
DTEND;VALUE=DATE:20250630
DTSTAMP:20260424T202952
CREATED:20250623T051515Z
LAST-MODIFIED:20250623T052717Z
UID:15354-1750557600-1751162399@spacewalkoffame.org
SUMMARY:Charity Space Memorabilia Auction - ENDS June 28\, 2025
DESCRIPTION:Summer Space Memorabilia Charity Auction (38)\nONLINE ONLY for benefit of the American Space Museum.\n– OPEN NOW for early ONLINE bidding. See Auction Information Page.\n– Final LIVE bidding starts June 28\, 2025 at Noon\, Online ONLY with the auctioneer.\nFor each item\, the auctioneer will take final online bids then close bidding for that item.\nFor AUCTION SITE link and status visit our Auction Information Page\nHighlights…\nThere is something for every space lover. Shuttle tile\, autographs of Mercury\, Gemini & Apollo astronauts\, Shuttle crew signed lithographs\, first day covers\, badges\, patches\, decals\, medallions and pins fill the rich collection of 350 lots up for bid.\nSee below for Contact Information…
URL:https://spacewalkoffame.org/event/charity-memorabilia-auction-38
LOCATION:American Space Museum ONLINE Auctions\, FL\, United States
CATEGORIES:Auctions
ATTACH;FMTTYPE=image/jpeg:https://spacewalkoffame.org/wp-content/uploads/2025/06/space-shuttle-tile-4857x3414-1-scaled.jpg
ORGANIZER;CN="American Space Museum":MAILTO:events@americanspacemuseum.org
END:VEVENT
END:VCALENDAR