BEGIN:VCALENDAR
VERSION:2.0
PRODID:-//American Space Museum &amp; Walk of Fame Titusville FL - ECPv6.15.20//NONSGML v1.0//EN
CALSCALE:GREGORIAN
METHOD:PUBLISH
X-WR-CALNAME:American Space Museum &amp; Walk of Fame Titusville FL
X-ORIGINAL-URL:https://spacewalkoffame.org
X-WR-CALDESC:Events for American Space Museum &amp; Walk of Fame Titusville FL
REFRESH-INTERVAL;VALUE=DURATION:PT1H
X-Robots-Tag:noindex
X-PUBLISHED-TTL:PT1H
BEGIN:VTIMEZONE
TZID:America/New_York
BEGIN:DAYLIGHT
TZOFFSETFROM:-0500
TZOFFSETTO:-0400
TZNAME:EDT
DTSTART:20160313T070000
END:DAYLIGHT
BEGIN:STANDARD
TZOFFSETFROM:-0400
TZOFFSETTO:-0500
TZNAME:EST
DTSTART:20161106T060000
END:STANDARD
BEGIN:DAYLIGHT
TZOFFSETFROM:-0500
TZOFFSETTO:-0400
TZNAME:EDT
DTSTART:20170312T070000
END:DAYLIGHT
BEGIN:STANDARD
TZOFFSETFROM:-0400
TZOFFSETTO:-0500
TZNAME:EST
DTSTART:20171105T060000
END:STANDARD
BEGIN:DAYLIGHT
TZOFFSETFROM:-0500
TZOFFSETTO:-0400
TZNAME:EDT
DTSTART:20180311T070000
END:DAYLIGHT
BEGIN:STANDARD
TZOFFSETFROM:-0400
TZOFFSETTO:-0500
TZNAME:EST
DTSTART:20181104T060000
END:STANDARD
BEGIN:DAYLIGHT
TZOFFSETFROM:-0500
TZOFFSETTO:-0400
TZNAME:EDT
DTSTART:20190310T070000
END:DAYLIGHT
BEGIN:STANDARD
TZOFFSETFROM:-0400
TZOFFSETTO:-0500
TZNAME:EST
DTSTART:20191103T060000
END:STANDARD
BEGIN:DAYLIGHT
TZOFFSETFROM:-0500
TZOFFSETTO:-0400
TZNAME:EDT
DTSTART:20200308T070000
END:DAYLIGHT
BEGIN:STANDARD
TZOFFSETFROM:-0400
TZOFFSETTO:-0500
TZNAME:EST
DTSTART:20201101T060000
END:STANDARD
BEGIN:DAYLIGHT
TZOFFSETFROM:-0500
TZOFFSETTO:-0400
TZNAME:EDT
DTSTART:20210314T070000
END:DAYLIGHT
BEGIN:STANDARD
TZOFFSETFROM:-0400
TZOFFSETTO:-0500
TZNAME:EST
DTSTART:20211107T060000
END:STANDARD
BEGIN:DAYLIGHT
TZOFFSETFROM:-0500
TZOFFSETTO:-0400
TZNAME:EDT
DTSTART:20220313T070000
END:DAYLIGHT
BEGIN:STANDARD
TZOFFSETFROM:-0400
TZOFFSETTO:-0500
TZNAME:EST
DTSTART:20221106T060000
END:STANDARD
BEGIN:DAYLIGHT
TZOFFSETFROM:-0500
TZOFFSETTO:-0400
TZNAME:EDT
DTSTART:20230312T070000
END:DAYLIGHT
BEGIN:STANDARD
TZOFFSETFROM:-0400
TZOFFSETTO:-0500
TZNAME:EST
DTSTART:20231105T060000
END:STANDARD
BEGIN:DAYLIGHT
TZOFFSETFROM:-0500
TZOFFSETTO:-0400
TZNAME:EDT
DTSTART:20240310T070000
END:DAYLIGHT
BEGIN:STANDARD
TZOFFSETFROM:-0400
TZOFFSETTO:-0500
TZNAME:EST
DTSTART:20241103T060000
END:STANDARD
BEGIN:DAYLIGHT
TZOFFSETFROM:-0500
TZOFFSETTO:-0400
TZNAME:EDT
DTSTART:20250309T070000
END:DAYLIGHT
BEGIN:STANDARD
TZOFFSETFROM:-0400
TZOFFSETTO:-0500
TZNAME:EST
DTSTART:20251102T060000
END:STANDARD
END:VTIMEZONE
BEGIN:VEVENT
DTSTART;VALUE=DATE:20240404
DTEND;VALUE=DATE:20240405
DTSTAMP:20260424T032209
CREATED:20240122T070106Z
LAST-MODIFIED:20240315T022855Z
UID:12717-1712196000-1712228400@spacewalkoffame.org
SUMMARY:Charity Space Memorabilia Auction - Space Program Photographs - ENDS May 4th\, 2024
DESCRIPTION:ONLINE ONLY for benefit of the American Space Museum.\n– Expected to open mid April for early ONLINE bidding. See Auction Information Page.\n– Final LIVE bidding starts May 4\, 2024 at Noon\, Online ONLY with the auctioneer.\nFor each item\, the auctioneer will take final online bids then close bidding for that item.\n(Note: This auction was originally scheduled to end April 13.) \nFor ONLINE AUCTION SITE link and status\nvisit our Auction Information Page\nSee below for Contact Information…\nBid Again works closely with organizations here and abroad that specialize in space photographs so you might be surprised at the collection they have amassed for your bidding pleasure.
URL:https://spacewalkoffame.org/event/charity-memorabilia-auction-32
LOCATION:American Space Museum ONLINE Auctions\, FL\, United States
CATEGORIES:Auctions
ATTACH;FMTTYPE=image/png:https://spacewalkoffame.org/wp-content/uploads/2022/02/wally-schirra-signed-litho-trim-623x500-1.png
ORGANIZER;CN="American Space Museum":MAILTO:events@americanspacemuseum.org
END:VEVENT
BEGIN:VEVENT
DTSTART;VALUE=DATE:20240215
DTEND;VALUE=DATE:20240216
DTSTAMP:20260424T032209
CREATED:20240122T065052Z
LAST-MODIFIED:20240316T022328Z
UID:12713-1707962400-1707994800@spacewalkoffame.org
SUMMARY:Charity Space Memorabilia Auction - Including Real Rocket Engine - ENDS March 9th\, 2024
DESCRIPTION:ONLINE ONLY for benefit of the American Space Museum.\n– OPEN NOW for early ONLINE bidding. See Auction Information Page.\n– Final LIVE bidding starts March 9\, 2024 at Noon\, Online ONLY with the auctioneer.\nFor each item\, the auctioneer will take final online bids then close bidding for that item.\n– See below for Contact Information.\nFor ONLINE AUCTION SITE link and status\nvisit our Auction Information Page\nA few examples from this auction…\nIt’s not often you get the opportunity to own a real full size Rocket engine. Just imagine\, having that Rocketdyne S-3D rocket engine in your front yard. (That’s a real full size engine in above photo collage.) Okay\, okay\, your spouse might have something to say about it. But you never know\, they could embrace the idea\, and presto! You own a dynamic piece of history. \nIn case you’re not in the market for an engine right now\, there are other not-so-big items up for bid. We have artifacts that might fill out a collection or become a great start for the novice collector. How about… \n\nLimited Edition numbered 68/300 photograph hand-signed by Mercury Astronauts John Glenn\, Scott Carpenter\, Wally Schirra\, and Gordon Cooper.\nScott Carpenter-signed Mercury Photograph.\nWernher Von Braun Typed Letter Signed 1964.\nRare 1967 Apollo Command Service Module Test Team Pin\, would make a great display.\nThe Snoopy felt banner? Everybody loves Snoopy.\n\nYou can already explore online for pre-bidding. You do not have to register to LOOK but after you see such cool space memorabilia you will want sign up right away. Learn More
URL:https://spacewalkoffame.org/event/charity-memorabilia-auction-31
LOCATION:American Space Museum ONLINE Auctions\, FL\, United States
CATEGORIES:Auctions
ATTACH;FMTTYPE=image/jpeg:https://spacewalkoffame.org/wp-content/uploads/2024/01/auction-31-collage-1200x927-1.jpg
ORGANIZER;CN="American Space Museum":MAILTO:events@americanspacemuseum.org
END:VEVENT
BEGIN:VEVENT
DTSTART;VALUE=DATE:20240117
DTEND;VALUE=DATE:20240118
DTSTAMP:20260424T032209
CREATED:20240122T063844Z
LAST-MODIFIED:20240207T035942Z
UID:12701-1705456800-1705489200@spacewalkoffame.org
SUMMARY:Charity Space Memorabilia Auction - American Astronaut Autographs - ENDS Feb 3rd\, 2024
DESCRIPTION:Bidding CLOSED:  \nONLINE ONLY for benefit of the American Space Museum.\n– NOW OPEN for early ONLINE bidding. See Auction Information Page.\n– Final LIVE bidding starts Feb 3\, 2024 at Noon\, Online ONLY with the auctioneer.\nFor each item\, the auctioneer will take final online bids then close bidding for that item.\nFor ONLINE AUCTION SITE link and status\nvisit our Auction Information Page\nSee below for Contact Information…\nLots and lots of unique and hard-to-find Astronaut signatures. Maybe you are missing that one Astronaut Autograph. Bid Again offers an extraordinary variety of Astronaut Autographs in this auction. You never know\, you might find what you’ve been missing.
URL:https://spacewalkoffame.org/event/charity-memorabilia-auction-30
LOCATION:American Space Museum ONLINE Auctions\, FL\, United States
CATEGORIES:Auctions
ATTACH;FMTTYPE=image/png:https://spacewalkoffame.org/wp-content/uploads/2024/01/auction-30-collage-650x502-1.png
ORGANIZER;CN="American Space Museum":MAILTO:events@americanspacemuseum.org
END:VEVENT
BEGIN:VEVENT
DTSTART;TZID=America/New_York:20221105T100000
DTEND;TZID=America/New_York:20221105T170000
DTSTAMP:20260424T032209
CREATED:20221012T063306Z
LAST-MODIFIED:20240316T040118Z
UID:10823-1667642400-1667667600@spacewalkoffame.org
SUMMARY:ASM Space Collectible Show\, Mini-Auction & Free Appraisals - Holiday Inn Titusville\, FL
DESCRIPTION:NEW Nov 2023 Show: \n2023 2nd Annual Space Memorabilia Show and Appraisals\n\nOLD 2022 Show below…\nWe are holding a FREE Space Collectible Show\, a Mini-Auction\, and Free Appraisals on November 5\, 2022 at the Holiday Inn\, Titusville\, FL (Map Below). \nSchedule:The show runs from 10 am to 5 pm. The mini auction starts at 4 pm. Free space memorabilia appraisals and evaluations by space memorabilia experts Chuck Jeffrey and Ken Havekotte throughout the day. \nAuction: Starting at 4pm\, the auctioneer will take live bids BOTH in-person at the event and online. The online auction site is NOW OPEN for early bids. Full Auction Info HERE. \nSponsored by Ken Havekotte’s SpaceCoast Cover Service\, Chuck Jeffrey of Bid Again Auctions\, and Delaware North at Kennedy Space Center. There will be vendors selling space memorabilia and souvenirs that will include flown space items\, autograph material\, photographs\, models\, literature\, books\, cloth patches\, postal covers\, pins\, badges\, toys\, and more. \nJeffrey\, a 30-year collector and Chief Operating Officer of the American Space Museum\, is owner of Bid Again Auctions\, which specializes in collections from astronauts\, noted NASA managers\, and space workers. Jeffrey will also conduct a 4 pm “mini-auction” of the museum’s surplus space memorabilia\, along with donated space lots by Havekotte\, to help raise money for museum gallery improvements. \nNoted as one of the world’s premier aerospace collectors\, Havekotte\, owner of SpaceCoast Cover Service\, is a long-time space exploration enthusiast and promoter\, widely recognized as an aerospace appraiser\, authenticator\, consultant\, and vendor with nearly 50 years experience. \nWhether a serious space collector or just interested in something that orbited earth\, you will find thousands of items from the Space Age at ASM’s inaugural “Space Collectible Show.” \nThe event hopes to raise $5\,000 for museum gallery display improvements through admission\, museum sales\, a mini-auction and private\, tax-deductible donations to the Florida 501(c)(3) non-profit museum that is located at 308 Pine St.\, downtown Titusville. \nAdmission is free\, with donations welcome for the ASM gallery improvements. Vendor tables are $30 each. To be a vendor\, contact Mark Marquette: marq@americanspacemuseum.org or (321) 264-0434.
URL:https://spacewalkoffame.org/event/space-memorabilia-show-2022
LOCATION:Holiday Inn Titusville – Kennedy Space Center\, 4715 Helen Hauser Blvd\, Titusville\, FL\, 32780\, United States
CATEGORIES:Auctions,Space History
ATTACH;FMTTYPE=image/png:https://spacewalkoffame.org/wp-content/uploads/2022/05/auction-20-collage-662x489-1.png
ORGANIZER;CN="American Space Museum":MAILTO:events@americanspacemuseum.org
END:VEVENT
BEGIN:VEVENT
DTSTART;TZID=America/New_York:20170415T103000
DTEND;TZID=America/New_York:20170415T163000
DTSTAMP:20260424T032209
CREATED:20170405T140608Z
LAST-MODIFIED:20200830T041306Z
UID:1871-1492252200-1492273800@spacewalkoffame.org
SUMMARY:Space Memorabilia Appraisals
DESCRIPTION:Individuals  bring their space memorabilia to the museum for an appraisal by our memorabilia expert\, Chuck Jeffrey\, between the hours of 10:30 a.m. and 4:30 p.m. on Saturday\, April 15\, 2017. Please do not bring a large number of items. If you have a whole collection that you would like appraised\, please contact the museum at 321-264-0434 and we will put you in touch with Chuck for a private appraisal.
URL:https://spacewalkoffame.org/event/space-memorabilia-appraisals
LOCATION:American Space Museum\, 308 Pine Street\, Titusville\, FL\, 32796\, United States
CATEGORIES:Auctions
ORGANIZER;CN="American Space Museum":MAILTO:events@americanspacemuseum.org
END:VEVENT
END:VCALENDAR