BEGIN:VCALENDAR
VERSION:2.0
PRODID:-//American Space Museum &amp; Walk of Fame Titusville FL - ECPv6.15.20//NONSGML v1.0//EN
CALSCALE:GREGORIAN
METHOD:PUBLISH
X-WR-CALNAME:American Space Museum &amp; Walk of Fame Titusville FL
X-ORIGINAL-URL:https://spacewalkoffame.org
X-WR-CALDESC:Events for American Space Museum &amp; Walk of Fame Titusville FL
REFRESH-INTERVAL;VALUE=DURATION:PT1H
X-Robots-Tag:noindex
X-PUBLISHED-TTL:PT1H
BEGIN:VTIMEZONE
TZID:America/New_York
BEGIN:DAYLIGHT
TZOFFSETFROM:-0500
TZOFFSETTO:-0400
TZNAME:EDT
DTSTART:20240310T070000
END:DAYLIGHT
BEGIN:STANDARD
TZOFFSETFROM:-0400
TZOFFSETTO:-0500
TZNAME:EST
DTSTART:20241103T060000
END:STANDARD
BEGIN:DAYLIGHT
TZOFFSETFROM:-0500
TZOFFSETTO:-0400
TZNAME:EDT
DTSTART:20250309T070000
END:DAYLIGHT
BEGIN:STANDARD
TZOFFSETFROM:-0400
TZOFFSETTO:-0500
TZNAME:EST
DTSTART:20251102T060000
END:STANDARD
BEGIN:DAYLIGHT
TZOFFSETFROM:-0500
TZOFFSETTO:-0400
TZNAME:EDT
DTSTART:20260308T070000
END:DAYLIGHT
BEGIN:STANDARD
TZOFFSETFROM:-0400
TZOFFSETTO:-0500
TZNAME:EST
DTSTART:20261101T060000
END:STANDARD
END:VTIMEZONE
BEGIN:VEVENT
DTSTART;TZID=America/New_York:20251105T180000
DTEND;TZID=America/New_York:20251105T210000
DTSTAMP:20260424T060047
CREATED:20251024T032528Z
LAST-MODIFIED:20251031T200512Z
UID:15529-1762365600-1762376400@spacewalkoffame.org
SUMMARY:NASA Legends Fundraiser Dinner with Launch Director Bob Sieck
DESCRIPTION:The American Space Museum’s Legends of NASA dinner will feature former Shuttle Launch Director Bob Sieck at the Italian American Club of Melbourne\, Florida on Wed. Nov. 5 from 6-9 pm. Address and contacts at page bottom.\nBuy your $40 ticket HERE and support the preservation of America’s Space Age history. \nYou can’t write the story of America’s Space Shuttle without including Bob Sieck\, one of its important leaders of the 30-year program. Bob is also a long-time board member and past treasurer of ASM\, and he is supporting this mini-fundraiser for our non-profit organization. \nSieck will share some experiences and answer questions at the Melbourne club at 6:30 pm with dinner at 7 pm\, and a follow-up session after the meal. \nCost of this ASM mini-fundraiser is $40 per person\, with tickets available HERE \nThe dinner will feature lasagna\, salad\, rolls\, desert and coffee. A cash bar will be available. \nAfter graduating from the University of Virginia with an Electrical Engineering degree in 1960\, the Air Force trained Bob to be a meteorologist supporting missile and aircraft operations. Bob left Air Force active duty and joined NASA at KSC in 1964 as a spacecraft systems engineer for the Gemini and Apollo programs. After Apollo he was transferred to the Space Shuttle program where he was one of the architects of the complex program as key leader in the management ranks. \nBob Sieck was Launch Director for 51 Space Shuttle missions before retiring in 1999 as KSC Director of Shuttle Processing. After retirement he has served on many NASA review boards and is currently a member of the NASA Advisory Council and the SpaceX Safety Panel. \nThe American Space Museum in Titusville is the business of the non-profit U.S. Space Walk of Fame Foundation\, which since 1988 has been preserving the birth of America’s Space Age in Brevard County\, Florida. Contact director Mark Marquette\, at marq@americanspacemuseum.org or (321) 264-0434. \nIf you can’t attend but would like to donate to our non-profit\, please visit our Donation Page. \nFuture Legends of NASA dates and presenters will be added to our Events Calendar as they are finalized.
URL:https://spacewalkoffame.org/event/nasa-legends-dinner-bob-sieck
LOCATION:Italian American Club of South Brevard\, 1471 Cypress Ave\, Melbourne\, Florida\, 32935
CATEGORIES:Dinners,Space History
ATTACH;FMTTYPE=image/jpeg:https://spacewalkoffame.org/wp-content/uploads/2018/03/bob_sieck_asm.jpg
ORGANIZER;CN="American Space Museum":MAILTO:events@americanspacemuseum.org
END:VEVENT
BEGIN:VEVENT
DTSTART;TZID=America/New_York:20250910T180000
DTEND;TZID=America/New_York:20250910T210000
DTSTAMP:20260424T060047
CREATED:20250816T063207Z
LAST-MODIFIED:20250819T050129Z
UID:15440-1757527200-1757538000@spacewalkoffame.org
SUMMARY:NASA Legends Dinner with Jay Honeycutt\, former Kennedy Space Center director
DESCRIPTION:The American Space Museum will be hosting a series of “NASA Legends Dinners” to offer the public informal evenings with notable leaders of America’s space program\, and we are honored to announce Jay Honeycutt\, former Kennedy Space Center director\, as our inaugural event presenter on Wednesday\, Sept. 10\, 2025 at the Italian American Club of Melbourne. Address and contacts at page bottom. \nASM’s “Evening with Jay Honeycutt” will be from 6-9 pm with cocktails\, dinner and a conversation about NASA’s past and present from one of America’s key managers of Apollo and Space Shuttle programs. Cost is $50 for dinner at this ASM fundraiser\, and tickets may be purchased at the Italian American Club website: https://iac321official.com. \nCocktails will be at 6 pm\, with Honeycutt speaking at 6:30 pm. followed by dinner at 7 pm.  A short documentary on NASA’s crewed spaceflights\, created by a team led by Honeycutt\, will be shown during dinner\, followed by Q & A. \nHoneycutt\, a resident of Cocoa Beach\, Florida with is wife Peggy\, will share his views on the past and the planned future activities that he has been a part of during his 60-plus years in the space field. \nHe joined NASA in the mid-1960s\, and became one of the lead managers at Johnson Space Center (JSC) in Houston\, Texas of the mission simulations used to train the flight crews and flight controllers for each of the Apollo missions. Honeycutt was one of the senior leaders during the development and the early missions of the Space Shuttle while at JSC. \nIn March 1989\, Honeycutt was transferred to Kennedy Space Center\, initially serving as Director of Shuttle Management and Operations\, and later as Director of America’s Space Port. In these roles\, he was responsible for all aspects of Shuttle preparation\, launch and recovery of 55 Space Shuttle launches. \nBorn in Jena\, Louisiana\, Honeycutt has an electrical engineering degree from the University of Louisiana\, Lafayette. \nJoin this unique opportunity to dine with Jay Honeycutt\, a person who has made a difference in America’s Space Age\, and to support the non-profit U.S. Space Walk of Fame Foundation\, doing business as the American Space Museum in Downtown Titusville\, Florida. \nFuture dates and presenters will be added to our Events Calendar as they are finalized.
URL:https://spacewalkoffame.org/event/nasa-legends-dinner-jay-honeycutt
LOCATION:Italian American Club of South Brevard\, 1471 Cypress Ave\, Melbourne\, Florida\, 32935
CATEGORIES:Dinners,Space History
ATTACH;FMTTYPE=image/jpeg:https://spacewalkoffame.org/wp-content/uploads/2025/08/nasa-legends-dinner-jay-honeycutt-1123x1110-1.jpg
ORGANIZER;CN="American Space Museum":MAILTO:events@americanspacemuseum.org
END:VEVENT
END:VCALENDAR