BEGIN:VCALENDAR
VERSION:2.0
PRODID:-//American Space Museum &amp; Walk of Fame Titusville FL - ECPv6.15.20//NONSGML v1.0//EN
CALSCALE:GREGORIAN
METHOD:PUBLISH
X-ORIGINAL-URL:https://spacewalkoffame.org
X-WR-CALDESC:Events for American Space Museum &amp; Walk of Fame Titusville FL
REFRESH-INTERVAL;VALUE=DURATION:PT1H
X-Robots-Tag:noindex
X-PUBLISHED-TTL:PT1H
BEGIN:VTIMEZONE
TZID:America/New_York
BEGIN:DAYLIGHT
TZOFFSETFROM:-0500
TZOFFSETTO:-0400
TZNAME:EDT
DTSTART:20240310T070000
END:DAYLIGHT
BEGIN:STANDARD
TZOFFSETFROM:-0400
TZOFFSETTO:-0500
TZNAME:EST
DTSTART:20241103T060000
END:STANDARD
BEGIN:DAYLIGHT
TZOFFSETFROM:-0500
TZOFFSETTO:-0400
TZNAME:EDT
DTSTART:20250309T070000
END:DAYLIGHT
BEGIN:STANDARD
TZOFFSETFROM:-0400
TZOFFSETTO:-0500
TZNAME:EST
DTSTART:20251102T060000
END:STANDARD
BEGIN:DAYLIGHT
TZOFFSETFROM:-0500
TZOFFSETTO:-0400
TZNAME:EDT
DTSTART:20260308T070000
END:DAYLIGHT
BEGIN:STANDARD
TZOFFSETFROM:-0400
TZOFFSETTO:-0500
TZNAME:EST
DTSTART:20261101T060000
END:STANDARD
END:VTIMEZONE
BEGIN:VEVENT
DTSTART;TZID=America/New_York:20250411T180000
DTEND;TZID=America/New_York:20250413T160000
DTSTAMP:20260425T075939
CREATED:20240903T032709Z
LAST-MODIFIED:20250828T201210Z
UID:14647-1744394400-1744560000@spacewalkoffame.org
SUMMARY:ShuttleFest IV - 3 Day Event
DESCRIPTION:ShuttleFest Panel Videos \n\n– April 11\, 2025 at American Space Museum.\n– April 12-13\, 2025 at Hyatt Place Titusville.\n– Featuring… \n\nAstronauts Eileen Collins\, Don Thomas\, Joe Tanner\, John Grunsfeld.\nNASA legends JoAnn Morgan\, Bob Sieck\, Jay Honeycutt\, Mike Leinbach.\nSpace artist Chris Calle\, author Jonathan Ward\, photographer Tom Usciak\, Astonomer Dr. Eric Perlman.\nAstronaut Meet & Greets\, Book Signings\, Photo Opportunities\, Vendors\, Food\, Music\, A Movie Screening… and Good Times.\n\nAddresses & Maps at page bottom.\nPurchase Tickets Here \nShuttleFest IV will celebrate the 35th anniversary of the Hubble Space Telescope including panel discussions about the amazing launch\, servicing and photography as told by spaceworkers and astronauts! \nAgenda – Friday 4/11 (At Museum)…\n“An Evening with NASA Legend JoAnn Morgan”\, ASTRONAUT MEET & GREET and BOOK SIGNING with Astronauts Eileen Collins and Don Thomas\, Hors d’oeuvres & beverages\, music\, vendors\, and a good time. \n\n6 – 7:30 pm: Astronaut Autographs & Fellowship.\n7:30 – 8:30 pm: JoAnn Morgan “In Her Own Words”: Presentation / Q&A session / Photos.\n8:30 – 10 pm: Telescope Stargazing | Autographs & General Fellowship Continue.\n\nAgenda – Saturday 4/12 (At Hyatt)…\n“Hubble Hugger Saturday” \n\n7:30 – 9 am: BREAKFAST: Food Trucks at National Space Society FL Chapter Event Tent\n9 am: Official Greeting & Opening Remarks\nChairman Mark Marquette & Master of Ceremonies Nick Thomas\n\n9:30 – 11 am: “Hubble Processing at Kennedy Space Center”\nMikey Haddad\, NASA Level IV Engineer & Astronauts Joe Tanner & John Grunsfeld\n\n11:30 – 12 pm: “Keeping Hubble Clean”\nMartin McClellan\, Former Perkinms Elmer Contamination Manager\n\n12 – 1:30 pm: LUNCH: Food Trucks @ NSS Event Tent\, Vendor Time\, & Fellowship.\n\n1:30 – 2:45 pm “Photographing Hubble”\nLed by Photographer Tom Usciak. Featuring IMAX Cinemetographer Jim Neihouse & Photographers Mark Usciak & Carelton Bailie\n\n2:45 – 4 pm “Spacewalking the Hubble Upgrades”\nAstronauts Joe Tanner & John Grunsfeld with Dr. Louis Carfagno\, NASA Space Suit Engineer\n\n4 – 4:10 pm “That Other Space Telescope: ‘The Rubble!'”\nA Parody by Mark Marquette\n\n4:15 – 6:15 pm “Autograph Session”\nAstronauts in Hyatt Place breakfast area & NSS Event Tent\n\n6:30 – 7:30 pm “VIP Happy Hour” by Invitation Only\nFor Sponsors/Speakers/Volunteers\n\n6 – 10 pm “NSS Happy Hour”\nwith Music by Anthony “Lil City Cowboy” Gantt. Sponsored by National Space Society Florida Chapter\n\n8 – 10 pm “MOVIE”: “The Artist & The Astronaut” The Pat Musick & Jerry Carr Story\nQ & A with Filmmaker Bill Muench at Hyatt Place Conference Room. Sponsored by Manned Space.\n\n6 – 9 pm AT MUSEUM: Docent Tours and Telescope Stargazing\nStargazing by Brevard Astronomical Society.\n\n\nAgenda – Sunday 4/13 (At Hyatt)…\nNASA Legends & Astronaut Sunday \n\n7:30 – 9 am: BREAKFAST: Food Trucks at National Space Society FL Chapter Event Tent\n9 am: “Welcome & Announcements” with Mark and Nick\n\n9:30 – 10 am: PREMIER: KSC Director Jay Honeycutt’s “A Brief History of NASA’s Human Spaceflight”\nA multi-media Presentation narrated by Astronaut Nicole Stott.\n\n10 – 10:45 am “NASA Legends Panel Q&A”\nJay Honeycutt\, Bob Sieck\, John Tribe\, & JoAnn Morgan\n\n10:45 – 11:30 am Astronaut Don Thomas: “Buckeyes & Woodpeckers”\nReflections on Four Spaceflights & Sharing the Shuttle Story.\n\n11:30 am – Noon “The Artwork of Hubble”\nA retrospective by Artist Chris Calle.\n\nNoon – 1:30 pm: LUNCH: Food Trucks @ NSS Event Tent\, Vendor Time\, & Fellowship.\n\n1:30 – 3 pm: “The Astronaut\, The Launch Director & The Writer”\nEileen Collins\, Mike Leinebach & Jonathan Ward\n\n3 – 4 pm Door Prizes & Silent Auction Winners\n\n\n4 – 10 pm Happy Hour & MOVIE at NSS Event Tent\nTalk to influencers and enjoy a movie (TBD). Sponsored by National Space Society Florida Chapter.\n\n6 – 9 pm AT MUSEUM: Docent Tours and Telescope Stargazing\nStargazing by Brevard Astronomical Society.\n\n\nWorld-renowned space artist Chris Calle will be one of a few hand-picked vendors that will include Ken Havekotte Space Memorabilia\, an event sponsor.\n\nThis is a fundraiser for the museum’s parent non-profit\, the U.S. Space Walk of Fame Foundation.\nQueries can be directed to shuttlefest@americanspacemuseum.org or 321-264-0434.\n \n*** Purchase Tickets HERE ***\n\nSold Out. Hope to see you in 2026.\n\n \nMap to Hyatt Place for Sat/Sun is below. Here is MAP to Museum for Friday evening.
URL:https://spacewalkoffame.org/event/shuttlefest-4-info-tickets
LOCATION:Hyatt Place Titusville / Kennedy Space Center\, 6299 Riverfront Center Blvd\, Titusville\, FL\, 32780\, United States
CATEGORIES:Space History
ATTACH;FMTTYPE=image/png:https://spacewalkoffame.org/wp-content/uploads/2023/10/shuttleFest-shield-transparent-450x488-1.png
ORGANIZER;CN="American Space Museum":MAILTO:events@americanspacemuseum.org
END:VEVENT
END:VCALENDAR