BEGIN:VCALENDAR
VERSION:2.0
PRODID:-//American Space Museum &amp; Walk of Fame Titusville FL - ECPv6.15.20//NONSGML v1.0//EN
CALSCALE:GREGORIAN
METHOD:PUBLISH
X-WR-CALNAME:American Space Museum &amp; Walk of Fame Titusville FL
X-ORIGINAL-URL:https://spacewalkoffame.org
X-WR-CALDESC:Events for American Space Museum &amp; Walk of Fame Titusville FL
REFRESH-INTERVAL;VALUE=DURATION:PT1H
X-Robots-Tag:noindex
X-PUBLISHED-TTL:PT1H
BEGIN:VTIMEZONE
TZID:America/New_York
BEGIN:DAYLIGHT
TZOFFSETFROM:-0500
TZOFFSETTO:-0400
TZNAME:EDT
DTSTART:20240310T070000
END:DAYLIGHT
BEGIN:STANDARD
TZOFFSETFROM:-0400
TZOFFSETTO:-0500
TZNAME:EST
DTSTART:20241103T060000
END:STANDARD
BEGIN:DAYLIGHT
TZOFFSETFROM:-0500
TZOFFSETTO:-0400
TZNAME:EDT
DTSTART:20250309T070000
END:DAYLIGHT
BEGIN:STANDARD
TZOFFSETFROM:-0400
TZOFFSETTO:-0500
TZNAME:EST
DTSTART:20251102T060000
END:STANDARD
BEGIN:DAYLIGHT
TZOFFSETFROM:-0500
TZOFFSETTO:-0400
TZNAME:EDT
DTSTART:20260308T070000
END:DAYLIGHT
BEGIN:STANDARD
TZOFFSETFROM:-0400
TZOFFSETTO:-0500
TZNAME:EST
DTSTART:20261101T060000
END:STANDARD
END:VTIMEZONE
BEGIN:VEVENT
DTSTART;TZID=America/New_York:20250809T103000
DTEND;TZID=America/New_York:20250809T120000
DTSTAMP:20260424T091709
CREATED:20250804T062517Z
LAST-MODIFIED:20250804T062648Z
UID:15419-1754735400-1754740800@spacewalkoffame.org
SUMMARY:Bilingual STEAM Saturday "Back to School Space Party!" Aug 9\, 2025
DESCRIPTION:8/9/25: STEAM Activities\, Spanish Lesson\, Dancing\, & Special Treats! \nThe American Space Museum presents our FREE educational “Bilingual STEAM* Program” for kids ages 4 – 12 on the second Saturday of each month. The class is free but limited to 15 students. Pre-registration Required. See below.** It will not only teach Space Age concepts\, but employ the Spanish language to the vocabulary of the students in the educational materials. You do NOT need to know Spanish to attend. Students will learn new phrases and terms along with science education. Address and map to our Titusville\, Florida location are at page bottom. \nNatalia Sepúlveda * conducts the monthly 10:30 am to noon class. Upcoming 2025 themes scheduled so far… \n\nAug 8: “Back to School Space Party!”.\nRest of 2025: (To be announced.)\n\nOur STEM Calendar will list TOPICS and DATES as they become available for registration.\nREGISTRATION INSTRUCTIONS\n\n** Pre-registration Required on our Class / Event Registration page. \nClasses are in high demand and often have a waitlist. Please be considerate of others by observing the following… \n\nOnly register students\, NOT accompanying adults or siblings.\nPlease… At least one parent or guardian must stay during class.\nIf a class is full you may be offered a spot on the waitlist IF it is not also full.\nIf plans change and the student will not be able to attend\, PLEASE CANCEL via link in the confirmation email so the slot is made available to others.\n\n\nFor questions please contact Natalia at bilinguallifestyle@gmail.com or 321-593-3060.\nPlease park in FRONT parking lot then walk around past the main door to the REAR of the building. Use the door by the trailer. \n* Sepúlveda is a bilingual educator\, best-selling children’s book author\, translator\, and editor. She’s a Ronald McNair Fellow (Challenger astronaut) with a master’s degree in Spanish from the University of Central Florida in Orlando.  \nShe owns Bilingual Lifestyle Publishing and teaches Spanish in her Bilingual Playgroup at the Brevard County libraries. She has translated and edited over 450 children’s books and educational resources. She also runs a Bilingual Lifestyle blog\, sharing her bilingual family adventures and educational resources. \nNatalia is originally from San Germán\, Puerto Rico\, and lives on the Florida Space Coast with her husband\, Joseph\, and her 3 children. She is passionate about STEAM education\, and enjoys traveling and spending time with her family. \n* STEAM = “Space\, Technology\, Engineering\, Arts and Math” (STEM with Arts added).
URL:https://spacewalkoffame.org/event/stem-workshop-2025-8
LOCATION:American Space Museum\, 308 Pine Street\, Titusville\, FL\, 32796\, United States
CATEGORIES:STEM Workshop
ATTACH;FMTTYPE=image/jpeg:https://spacewalkoffame.org/wp-content/uploads/2024/10/natalia-sepulveda-with-rocket-768x1024-1-rotated.jpg
END:VEVENT
END:VCALENDAR