BEGIN:VCALENDAR
VERSION:2.0
PRODID:-//American Space Museum &amp; Walk of Fame Titusville FL - ECPv6.15.20//NONSGML v1.0//EN
CALSCALE:GREGORIAN
METHOD:PUBLISH
X-WR-CALNAME:American Space Museum &amp; Walk of Fame Titusville FL
X-ORIGINAL-URL:https://spacewalkoffame.org
X-WR-CALDESC:Events for American Space Museum &amp; Walk of Fame Titusville FL
REFRESH-INTERVAL;VALUE=DURATION:PT1H
X-Robots-Tag:noindex
X-PUBLISHED-TTL:PT1H
BEGIN:VTIMEZONE
TZID:America/New_York
BEGIN:DAYLIGHT
TZOFFSETFROM:-0500
TZOFFSETTO:-0400
TZNAME:EDT
DTSTART:20250309T070000
END:DAYLIGHT
BEGIN:STANDARD
TZOFFSETFROM:-0400
TZOFFSETTO:-0500
TZNAME:EST
DTSTART:20251102T060000
END:STANDARD
BEGIN:DAYLIGHT
TZOFFSETFROM:-0500
TZOFFSETTO:-0400
TZNAME:EDT
DTSTART:20260308T070000
END:DAYLIGHT
BEGIN:STANDARD
TZOFFSETFROM:-0400
TZOFFSETTO:-0500
TZNAME:EST
DTSTART:20261101T060000
END:STANDARD
BEGIN:DAYLIGHT
TZOFFSETFROM:-0500
TZOFFSETTO:-0400
TZNAME:EDT
DTSTART:20270314T070000
END:DAYLIGHT
BEGIN:STANDARD
TZOFFSETFROM:-0400
TZOFFSETTO:-0500
TZNAME:EST
DTSTART:20271107T060000
END:STANDARD
END:VTIMEZONE
BEGIN:VEVENT
DTSTART;TZID=America/New_York:20260619T180000
DTEND;TZID=America/New_York:20260621T170000
DTSTAMP:20260424T052651
CREATED:20251101T224824Z
LAST-MODIFIED:20260421T181250Z
UID:15603-1781892000-1782061200@spacewalkoffame.org
SUMMARY:ShuttleFest V “NASA at Star City” June 19-21\, 2026
DESCRIPTION:UPDATE: Single Day tickets now available.\nShuttleFest Tickets & Hotel Discount\n\n\nShuttleFest V tickets on sale below. Optional “Breakfast with an Astronaut” offered.\n“Stay where you play “: Cocoa Beach Hilton rooms available at a special ShuttleFest rate of $206 until April 30th while supplies last. Use Code SFEST5 at https://www.hilton.com/en/attend-my-event/\n\n\nDates / Times / Prices\n\nTickets for sale BELOW\n\n1) Main ShuttleFest 2 Day Event\n\nJune 20th & 21st 9am – 5pm at Hilton Cocoa Beach Oceanfront.\n$150 BOTH DAYS (BEST VALUE). Don’t miss out. Different agenda each day!\n$95 Single Day (Saturday or Sunday)\nOptional “Breakfast with an Astronaut” 8am Saturday AND/OR Sunday. +$50 per person per day(s) chosen. Must be purchased at time of ShuttleFest ticket purchase.\n\n\n\n2) $75 Friday Evening fundraiser Cocktail Party with astronauts\, event speakers and VIPs.\n\nJune 19th at American Space Museum 6 – 9pm.\nSeparate purchase. Limited to 75 people. ShuttleFest admission NOT required.\n\n\nThese events raise funds for the museum and its parent non-profit\, the U.S. Space Walk of Fame Foundation.\nQueries can be directed to shuttlefest@americanspacemuseum.org or 321-264-0434. \nTentative Agenda\n\nHeld at the luxurious Hilton Cocoa Beach Oceanfront (MAP at bottom)\, ShuttleFest V has confirmed 6 astronauts (more to come). Join us for a two-day fellowship between space workers\, space lovers and space fliers. Enjoy panel discussions\, talks\, autographs\, books\, and photos. \nSaturday June 20th panel discussions will have the theme: “Americans in Russian Spaceships” featuring Norm Thagard\, Mike Baker and Hoot Gibson.\nSunday June 21st will be “Shuttle Sunday” focusing on the 30 year legacy of the Shuttle Era featuring Tom Jones\, Steven Hawley\, Susan Kilrain and Nicole Stott. \nAstronauts booked so far…\n\nMike Baker\n“Hoot” Gibson\nSteven Hawley\nTom Jones\nSusan Kilrain\nMike Mullane\nNicole Stott\nNorm Thagard\n\nSpecial presenters booked so far…\n\nArtist Chris Calle\nNASA’s Bob Sieck\nIMAX engineer James Neihouse\nShuttle photographers Tom and Mark Usciak\nAstronaut trainer Ken Verderame\nNASA engineer Mikey Haddad\n\nFriday’s June 19th evening cocktail party fundraiser is a separate ticket to support the U.S. Space Walk of Fame Foundation\, the nonprofit organization running the American Space Museum. Astronauts\, VIPs and program to be announced soon. \n\n\nSponsors & Vendors Being Solicited.\n\nSponsor an astronaut for $1\,500 or be a contributor for $500. For info: Chairman Mark Marquette: shuttlefest@americanspacemuseum.org or (321) 264-0434\n\n \nInstructions for below  Purchase Form \n\n1) Choose ShuttleFest OR Cocktail Party. You must book each one separately.\n2a) ShuttleFest Tickets…\n\nIf Purchasing tickets for multiple attendees…\n\nIf you want NO Breakfast with Astronaut options OR want the SAME breakfast options with every ticket\, you can purchase multiple tickets with one purchase. Be sure to set number of attendees on Contact form.\nIf you want different breakfast options for some tickets you must purchase those ShuttleFest tickets as a separate purchase. Be sure to set number of attendees on Contact form.\n\n\nClick “ShuttleFest V [BOTH DAYS\, SATURDAY ONLY\, or SUNDAY ONLY]” to open OPTIONS list.\nIf desired\, Select “Breakfast with Astronaut” option(s) which apply to all attendees in current purchase.\nClick   “Book ShuttleFest V [Days]“ to open Calendar.\nOn calendar below Sat click   “ShuttleFest V [Days]“ to open Contact Info form. (Covers both days.)\n\n2b) Cocktail Party Tickets…\n\nClick “Pre-ShuttleFest Cocktail Party” to open Calendar.\nOn calendar below Fri click   “Pre-ShuttleFest Cocktail Party“ to open Contact Info form.\n\n3) Contact Form (All Tickets)\n\nConfirm price per attendee.\nBe sure to set number of attendees. If more than 1\, new total will be on payment form.\nDouble Check Email Entry. Tickets\, confirmations\, etc. are emailed.\nText Reminders require Phone entry.\nClick NEXT to go to payment form.\n\n4) Payment Form (All Tickets)\n\nPayPal account NOT REQUIRED for Credit Cards (All payments PROCESSED by PayPal)\nConfirm total price for the whole purchase.\nContinue purchase with Credit Card or PayPal.\n\n5) After Purchase\n\nLook for email confirmation from “FlexBooker”. The email is your “ticket”. Please bring a copy (electronic or printed) to the event.\nIf email not received: shuttlefest@americanspacemuseum.org or 321-264-0434.\n\n\n\n*** Purchase Form ***\n\nShuttleFest V reserves the right to change the guest list and program content as necessary to accommodate the participants. All sales are final. Refunds for medical emergencies only. Thanks for understanding.\nREFRESH to start over or make an additional purchase.\n\n\n\nMap to Hilton Cocoa Beach Oceanfront for Sat/Sun is below. Here is MAP to Museum for Friday evening.
URL:https://spacewalkoffame.org/event/shuttlefest-5
LOCATION:Hilton Cocoa Beach Oceanfront\, 1550 N Atlantic Ave\, Cocoa Beach\, Florida\, 32931
CATEGORIES:Space History
ATTACH;FMTTYPE=image/png:https://spacewalkoffame.org/wp-content/uploads/2023/10/shuttleFest-shield-transparent-450x488-1.png
ORGANIZER;CN="American Space Museum":MAILTO:events@americanspacemuseum.org
END:VEVENT
END:VCALENDAR