BEGIN:VCALENDAR
VERSION:2.0
PRODID:-//American Space Museum &amp; Walk of Fame Titusville FL - ECPv6.15.20//NONSGML v1.0//EN
CALSCALE:GREGORIAN
METHOD:PUBLISH
X-WR-CALNAME:American Space Museum &amp; Walk of Fame Titusville FL
X-ORIGINAL-URL:https://spacewalkoffame.org
X-WR-CALDESC:Events for American Space Museum &amp; Walk of Fame Titusville FL
REFRESH-INTERVAL;VALUE=DURATION:PT1H
X-Robots-Tag:noindex
X-PUBLISHED-TTL:PT1H
BEGIN:VTIMEZONE
TZID:America/New_York
BEGIN:DAYLIGHT
TZOFFSETFROM:-0500
TZOFFSETTO:-0400
TZNAME:EDT
DTSTART:20240310T070000
END:DAYLIGHT
BEGIN:STANDARD
TZOFFSETFROM:-0400
TZOFFSETTO:-0500
TZNAME:EST
DTSTART:20241103T060000
END:STANDARD
BEGIN:DAYLIGHT
TZOFFSETFROM:-0500
TZOFFSETTO:-0400
TZNAME:EDT
DTSTART:20250309T070000
END:DAYLIGHT
BEGIN:STANDARD
TZOFFSETFROM:-0400
TZOFFSETTO:-0500
TZNAME:EST
DTSTART:20251102T060000
END:STANDARD
BEGIN:DAYLIGHT
TZOFFSETFROM:-0500
TZOFFSETTO:-0400
TZNAME:EDT
DTSTART:20260308T070000
END:DAYLIGHT
BEGIN:STANDARD
TZOFFSETFROM:-0400
TZOFFSETTO:-0500
TZNAME:EST
DTSTART:20261101T060000
END:STANDARD
END:VTIMEZONE
BEGIN:VEVENT
DTSTART;TZID=America/New_York:20251105T180000
DTEND;TZID=America/New_York:20251105T210000
DTSTAMP:20260425T102905
CREATED:20251024T032528Z
LAST-MODIFIED:20251031T200512Z
UID:15529-1762365600-1762376400@spacewalkoffame.org
SUMMARY:NASA Legends Fundraiser Dinner with Launch Director Bob Sieck
DESCRIPTION:The American Space Museum’s Legends of NASA dinner will feature former Shuttle Launch Director Bob Sieck at the Italian American Club of Melbourne\, Florida on Wed. Nov. 5 from 6-9 pm. Address and contacts at page bottom.\nBuy your $40 ticket HERE and support the preservation of America’s Space Age history. \nYou can’t write the story of America’s Space Shuttle without including Bob Sieck\, one of its important leaders of the 30-year program. Bob is also a long-time board member and past treasurer of ASM\, and he is supporting this mini-fundraiser for our non-profit organization. \nSieck will share some experiences and answer questions at the Melbourne club at 6:30 pm with dinner at 7 pm\, and a follow-up session after the meal. \nCost of this ASM mini-fundraiser is $40 per person\, with tickets available HERE \nThe dinner will feature lasagna\, salad\, rolls\, desert and coffee. A cash bar will be available. \nAfter graduating from the University of Virginia with an Electrical Engineering degree in 1960\, the Air Force trained Bob to be a meteorologist supporting missile and aircraft operations. Bob left Air Force active duty and joined NASA at KSC in 1964 as a spacecraft systems engineer for the Gemini and Apollo programs. After Apollo he was transferred to the Space Shuttle program where he was one of the architects of the complex program as key leader in the management ranks. \nBob Sieck was Launch Director for 51 Space Shuttle missions before retiring in 1999 as KSC Director of Shuttle Processing. After retirement he has served on many NASA review boards and is currently a member of the NASA Advisory Council and the SpaceX Safety Panel. \nThe American Space Museum in Titusville is the business of the non-profit U.S. Space Walk of Fame Foundation\, which since 1988 has been preserving the birth of America’s Space Age in Brevard County\, Florida. Contact director Mark Marquette\, at marq@americanspacemuseum.org or (321) 264-0434. \nIf you can’t attend but would like to donate to our non-profit\, please visit our Donation Page. \nFuture Legends of NASA dates and presenters will be added to our Events Calendar as they are finalized.
URL:https://spacewalkoffame.org/event/nasa-legends-dinner-bob-sieck
LOCATION:Italian American Club of South Brevard\, 1471 Cypress Ave\, Melbourne\, Florida\, 32935
CATEGORIES:Dinners,Space History
ATTACH;FMTTYPE=image/jpeg:https://spacewalkoffame.org/wp-content/uploads/2018/03/bob_sieck_asm.jpg
ORGANIZER;CN="American Space Museum":MAILTO:events@americanspacemuseum.org
END:VEVENT
BEGIN:VEVENT
DTSTART;TZID=America/New_York:20251108T103000
DTEND;TZID=America/New_York:20251108T120000
DTSTAMP:20260425T102905
CREATED:20250905T221605Z
LAST-MODIFIED:20250905T222934Z
UID:15481-1762597800-1762603200@spacewalkoffame.org
SUMMARY:Bilingual STEAM Educational Workshop – Nov 8\, 2025 - Being Thankful for Space Spinoffs at Home
DESCRIPTION:The American Space Museum presents our FREE educational “Bilingual STEAM* Program” for kids ages 4 – 12 on the second Saturday of each month. The class is free but limited to 15 students. Pre-registration Required. See below.** It will not only teach Space Age concepts\, but employ the Spanish language to the vocabulary of the students in the educational materials. They do NOT need to know Spanish to attend and do NOT have to attend all classes. Students will learn new phrases and terms along with science education. Address and map to our Titusville\, Florida location are at page bottom. \nNatalia Sepúlveda conducts the monthly 10:30 am to noon class. \n** Topics for the rest of 2025…\n\nSep 13: “Pressure & Sound: with Andrew Pino\, a Lockheed Martin test engineer”\nOct 11: “The Spanish Language in Space: Who are Hispanic astronauts?”\nNov  8: “Being Thankful for Space Spinoffs at Home”\nDec 13: “Robots in Space” and a holiday dance party!\n\nASM’s Bilingual STEAM programs are supported in part by a grant from the NASA Alumni League of Florida. \nAbout Instructor Natalia Sepulveda\nSepulveda is a best-selling children’s book author\, translator\, and editor. She’s a Ronald McNair\nFellow (a Challenger astronaut) with a master’s degree in Spanish from the University of Central Florida in Orlando.  \nShe owns Bilingual Lifestyle Publishing and translates and edits children’s books.  \nShe has translated and edited over 500 children’s books and\neducational resources. She also runs a Bilingual Lifestyle blog\, sharing her bilingual family\nadventures and educational resources. \nREGISTRATION INSTRUCTIONS\n\n** Pre-registration Required on our Class / Event Registration page. \nClasses are in high demand and often have a waitlist. Please be considerate of others by observing the following… \n\nOnly register students\, NOT accompanying adults or siblings.\nPlease… At least one parent or guardian must stay during class.\nIf a class is full you may be offered a spot on the waitlist IF it is not also full.\nIf plans change and the student will not be able to attend\, PLEASE CANCEL via link in the confirmation email so the slot is made available to others.\n\n\nFor questions please contact Natalia at bilinguallifestyle@gmail.com or 321-593-3060.\nPlease park in FRONT parking lot then walk around past the main door to the REAR of the building. Use the door by the trailer. \n* STEAM = “Space\, Technology\, Engineering\, Arts and Math” (STEM with Arts added).
URL:https://spacewalkoffame.org/event/stem-workshop-2025-11
LOCATION:American Space Museum\, 308 Pine Street\, Titusville\, FL\, 32796\, United States
CATEGORIES:STEM Workshop
ATTACH;FMTTYPE=image/jpeg:https://spacewalkoffame.org/wp-content/uploads/2024/10/natalia-sepulveda-with-rocket-768x1024-1-rotated.jpg
END:VEVENT
BEGIN:VEVENT
DTSTART;TZID=America/New_York:20251213T103000
DTEND;TZID=America/New_York:20251213T120000
DTSTAMP:20260425T102905
CREATED:20250905T222006Z
LAST-MODIFIED:20250905T222959Z
UID:15483-1765621800-1765627200@spacewalkoffame.org
SUMMARY:Bilingual STEAM Educational Workshop – Dec 13\, 2025 - "Robots in Space” and a holiday dance party!
DESCRIPTION:The American Space Museum presents our FREE educational “Bilingual STEAM* Program” for kids ages 4 – 12 on the second Saturday of each month. The class is free but limited to 15 students. Pre-registration Required. See below.** It will not only teach Space Age concepts\, but employ the Spanish language to the vocabulary of the students in the educational materials. They do NOT need to know Spanish to attend and do NOT have to attend all classes. Students will learn new phrases and terms along with science education. Address and map to our Titusville\, Florida location are at page bottom. \nNatalia Sepúlveda conducts the monthly 10:30 am to noon class. \n** Topics for the rest of 2025…\n\nSep 13: “Pressure & Sound: with Andrew Pino\, a Lockheed Martin test engineer”\nOct 11: “The Spanish Language in Space: Who are Hispanic astronauts?”\nNov  8: “Being Thankful for Space Spinoffs at Home”\nDec 13: “Robots in Space” and a holiday dance party!\n\nASM’s Bilingual STEAM programs are supported in part by a grant from the NASA Alumni League of Florida. \nAbout Instructor Natalia Sepulveda\nSepulveda is a best-selling children’s book author\, translator\, and editor. She’s a Ronald McNair\nFellow (a Challenger astronaut) with a master’s degree in Spanish from the University of Central Florida in Orlando.  \nShe owns Bilingual Lifestyle Publishing and translates and edits children’s books.  \nShe has translated and edited over 500 children’s books and\neducational resources. She also runs a Bilingual Lifestyle blog\, sharing her bilingual family\nadventures and educational resources. \nREGISTRATION INSTRUCTIONS\n\n** Pre-registration Required on our Class / Event Registration page. \nClasses are in high demand and often have a waitlist. Please be considerate of others by observing the following… \n\nOnly register students\, NOT accompanying adults or siblings.\nPlease… At least one parent or guardian must stay during class.\nIf a class is full you may be offered a spot on the waitlist IF it is not also full.\nIf plans change and the student will not be able to attend\, PLEASE CANCEL via link in the confirmation email so the slot is made available to others.\n\n\nFor questions please contact Natalia at bilinguallifestyle@gmail.com or 321-593-3060.\nPlease park in FRONT parking lot then walk around past the main door to the REAR of the building. Use the door by the trailer. \n* STEAM = “Space\, Technology\, Engineering\, Arts and Math” (STEM with Arts added).
URL:https://spacewalkoffame.org/event/stem-workshop-2025-12
LOCATION:American Space Museum\, 308 Pine Street\, Titusville\, FL\, 32796\, United States
CATEGORIES:STEM Workshop
ATTACH;FMTTYPE=image/jpeg:https://spacewalkoffame.org/wp-content/uploads/2024/10/natalia-sepulveda-with-rocket-768x1024-1-rotated.jpg
END:VEVENT
END:VCALENDAR