BEGIN:VCALENDAR
VERSION:2.0
PRODID:-//American Space Museum &amp; Walk of Fame Titusville FL - ECPv6.15.20//NONSGML v1.0//EN
CALSCALE:GREGORIAN
METHOD:PUBLISH
X-ORIGINAL-URL:https://spacewalkoffame.org
X-WR-CALDESC:Events for American Space Museum &amp; Walk of Fame Titusville FL
REFRESH-INTERVAL;VALUE=DURATION:PT1H
X-Robots-Tag:noindex
X-PUBLISHED-TTL:PT1H
BEGIN:VTIMEZONE
TZID:America/New_York
BEGIN:DAYLIGHT
TZOFFSETFROM:-0500
TZOFFSETTO:-0400
TZNAME:EDT
DTSTART:20230312T070000
END:DAYLIGHT
BEGIN:STANDARD
TZOFFSETFROM:-0400
TZOFFSETTO:-0500
TZNAME:EST
DTSTART:20231105T060000
END:STANDARD
BEGIN:DAYLIGHT
TZOFFSETFROM:-0500
TZOFFSETTO:-0400
TZNAME:EDT
DTSTART:20240310T070000
END:DAYLIGHT
BEGIN:STANDARD
TZOFFSETFROM:-0400
TZOFFSETTO:-0500
TZNAME:EST
DTSTART:20241103T060000
END:STANDARD
BEGIN:DAYLIGHT
TZOFFSETFROM:-0500
TZOFFSETTO:-0400
TZNAME:EDT
DTSTART:20250309T070000
END:DAYLIGHT
BEGIN:STANDARD
TZOFFSETFROM:-0400
TZOFFSETTO:-0500
TZNAME:EST
DTSTART:20251102T060000
END:STANDARD
END:VTIMEZONE
BEGIN:VEVENT
DTSTART;VALUE=DATE:20240502
DTEND;VALUE=DATE:20240530
DTSTAMP:20260425T200612
CREATED:20240403T032636Z
LAST-MODIFIED:20240403T032636Z
UID:13727-1714615200-1716947999@spacewalkoffame.org
SUMMARY:"Build-A-Brain" Educational STEM Workshops – “Basics of Electronics" – May 2024
DESCRIPTION:The May 2024 theme is Basics of Electronics. Students will learn about electronic components and how they work. They will then get to build two simple circuits\, and then take their projects home. \nIdentical classes at 10:00\, 12:00\, and 2:00 on May 2\, 3\, 8\, 9\, 10\, 11\, 14\, 16\, 17\, 18\, 22\, 23\, 25\, 28. \nPlease Park out front\, and enter through the back door. Thank You. \n\nPre-registration Required. \nSee “Build-A-Brain” Educational STEM Workshops for Registration Instructions and Full Workshops Info. \nSee STEM Calendar for TOPICS and DATES.\nPlease park in FRONT parking lot then walk around past the main door to the REAR of the building. Use the door by the trailer.
URL:https://spacewalkoffame.org/event/stem-workshops-may-2024
LOCATION:American Space Museum\, 308 Pine Street\, Titusville\, FL\, 32796\, United States
CATEGORIES:STEM Workshop
ATTACH;FMTTYPE=image/png:https://spacewalkoffame.org/wp-content/uploads/2022/06/basic-electronics-810x450-1.png
END:VEVENT
END:VCALENDAR